BEGIN:VCALENDAR
VERSION:2.0
PRODID:-//Association for Women in Insurance (Qld) Inc - ECPv4.6.10.1//NONSGML v1.0//EN
CALSCALE:GREGORIAN
METHOD:PUBLISH
X-WR-CALNAME:Association for Women in Insurance (Qld) Inc
X-ORIGINAL-URL:https://www.womenininsurance.com.au
X-WR-CALDESC:Events for Association for Women in Insurance (Qld) Inc
BEGIN:VEVENT
DTSTART;TZID=UTC+10:20180302T150000
DTEND;TZID=UTC+10:20180302T173000
DTSTAMP:20180227T020338
CREATED:20180121T224913Z
LAST-MODIFIED:20180208T223147Z
UID:2165-1520002800-1520011800@www.womenininsurance.com.au
SUMMARY:International Womens' Day Champagne High Tea
DESCRIPTION:CHAMPIONS FOR GENDER DIVERSITY: NOT JUST SECRET WOMEN’S BUSINESS \nJoin us for an exciting discussion about the obstacles to achieving true gender equality in the workplace and the critical role that male industry leaders can play in breaking down barriers to champion the contributions and successes of female colleagues and staff. \nOur talented panel of business leaders includes: \n\nPhilip Noble\, Chief Executive\, Queensland Treasury Corporation\nDavid Clarke\, Executive Director\, Risk\, Legal and Tax\, QIC\nPeter Birtles\, Group Managing Director and CEO\, Super Retail Group\nNicholas Andreatidis\, Barrister\, Level Twenty Seven Chambers\n\n
URL:https://www.womenininsurance.com.au/events/international-womens-day-function/
LOCATION:Terrace Room\, Blackbird Bar & Grill\, 123 Eagle Street\, Brisbane\, Queensland\, 4000\, Australia
ORGANIZER;CN="Women%20in%20Insurance":MAILTO:info@womenininsurance.com.au
END:VEVENT
BEGIN:VEVENT
DTSTART;VALUE=DATE:20180322
DTEND;VALUE=DATE:20180323
DTSTAMP:20180227T020338
CREATED:20180121T225045Z
LAST-MODIFIED:20180121T225045Z
UID:2167-1521676800-1521763199@www.womenininsurance.com.au
SUMMARY:*Free* Educational Lunch
DESCRIPTION:Further information will be released closer to the event! Watch this space! \n
URL:https://www.womenininsurance.com.au/events/free-educational-lunch/
LOCATION:Queensland
END:VEVENT
BEGIN:VEVENT
DTSTART;VALUE=DATE:20180518
DTEND;VALUE=DATE:20180519
DTSTAMP:20180227T020338
CREATED:20180121T225152Z
LAST-MODIFIED:20180121T225152Z
UID:2170-1526601600-1526687999@www.womenininsurance.com.au
SUMMARY:Member's Drinks
DESCRIPTION:Further information will be released closer to the event! Watch this space! \n
URL:https://www.womenininsurance.com.au/events/members-drinks/
LOCATION:Queensland
END:VEVENT
BEGIN:VEVENT
DTSTART;VALUE=DATE:20180803
DTEND;VALUE=DATE:20180804
DTSTAMP:20180227T020338
CREATED:20180121T225245Z
LAST-MODIFIED:20180121T225303Z
UID:2172-1533254400-1533340799@www.womenininsurance.com.au
SUMMARY:AGM Luncheon
DESCRIPTION:Further information will be released closer to the event! Watch this space! \n
URL:https://www.womenininsurance.com.au/events/agm-luncheon/
LOCATION:Queensland
END:VEVENT
BEGIN:VEVENT
DTSTART;VALUE=DATE:20181214
DTEND;VALUE=DATE:20181215
DTSTAMP:20180227T020338
CREATED:20180121T225412Z
LAST-MODIFIED:20180121T225412Z
UID:2174-1544745600-1544831999@www.womenininsurance.com.au
SUMMARY:Christmas Party
DESCRIPTION:Further information will be released closer to the event! Watch this space! \n
URL:https://www.womenininsurance.com.au/events/christmas-party/
LOCATION:Queensland
END:VEVENT
END:VCALENDAR